BEGIN:VCALENDAR
VERSION:2.0
PRODID:-//Keys to Change | Arizona - ECPv6.15.20//NONSGML v1.0//EN
CALSCALE:GREGORIAN
METHOD:PUBLISH
X-ORIGINAL-URL:https://keystochangeaz.org
X-WR-CALDESC:Events for Keys to Change | Arizona
REFRESH-INTERVAL;VALUE=DURATION:PT1H
X-Robots-Tag:noindex
X-PUBLISHED-TTL:PT1H
BEGIN:VTIMEZONE
TZID:America/Phoenix
BEGIN:STANDARD
TZOFFSETFROM:-0700
TZOFFSETTO:-0700
TZNAME:MST
DTSTART:20230101T000000
END:STANDARD
END:VTIMEZONE
BEGIN:VEVENT
DTSTART;VALUE=DATE:20260407
DTEND;VALUE=DATE:20260408
DTSTAMP:20260425T110035
CREATED:20260331T210428Z
LAST-MODIFIED:20260417T215816Z
UID:10000014-1775520000-1775606399@keystochangeaz.org
SUMMARY:AZ Gives Day
DESCRIPTION:The Keys to Change team never quits. We house an average of 5 people every single day. We’re on track to help 1\,900 people home this year – but we need you to match our energy!!!! \nThis AZ Gives Day is the perfect opportunity to support the work of Keys to Change. A generous community member has pledged to match the first $10\,000 we raise – meaning your hard-earned money will go twice as far – just by giving at the right time. \n\nWhen you donate $10\, Keys to Change receives $20\nWhen you donate $1\,000\, Keys to Change receives $2\,000\n\nhttps://www.azgives.org/organization/keystochange \nAZ Gives Day is April 7. Early giving opens March 17. Give today!
URL:https://keystochangeaz.org/event/az-gives-day/
ATTACH;FMTTYPE=image/jpeg:https://keystochangeaz.org/wp-content/uploads/2026/03/Match-Our-Energy-feature-image.jpg
ORGANIZER;CN="Keys to Change":MAILTO:admin@keystochangeaz.org
END:VEVENT
BEGIN:VEVENT
DTSTART;TZID=America/Phoenix:20260401T090000
DTEND;TZID=America/Phoenix:20260401T103000
DTSTAMP:20260425T110035
CREATED:20260126T213138Z
LAST-MODIFIED:20260417T220000Z
UID:10000010-1775034000-1775039400@keystochangeaz.org
SUMMARY:Public Tour of Key Campus
DESCRIPTION:Join us to learn how 13 partners collaborate on one campus to end homelessness for individuals every day. Key Campus Tours are provided to the public on the first Wednesday of every month at 9am. Get an in-depth look at the inner workings of this transformative space – knowledge is the key to being a good neighbor! We hope to see you soon. \nReserve your spot: https://keystochangeaz.org/get-involved/campus-tours/ \nNOTE: If the date you wish to attend is not listed on the Mobilize signup form\, that means the tour is full. Please select another date provided\, or email admin@keystochangeaz.org to schedule a private tour.
URL:https://keystochangeaz.org/event/tour-04-2026/
LOCATION:Keys to Change Administration Offices\, 1218 W Madison Street\, Phoenix\, AZ\, 85007\, United States
ATTACH;FMTTYPE=image/jpeg:https://keystochangeaz.org/wp-content/uploads/2026/01/Key-Campus-Tours-feature-image.jpg
ORGANIZER;CN="Keys to Change":MAILTO:admin@keystochangeaz.org
END:VEVENT
BEGIN:VEVENT
DTSTART;TZID=America/Phoenix:20260304T090000
DTEND;TZID=America/Phoenix:20260304T103000
DTSTAMP:20260425T110035
CREATED:20260126T212940Z
LAST-MODIFIED:20260417T220053Z
UID:10000009-1772614800-1772620200@keystochangeaz.org
SUMMARY:Public Tour of Key Campus
DESCRIPTION:Join us to learn how 13 partners collaborate on one campus to end homelessness for individuals every day. Key Campus Tours are provided to the public on the first Wednesday of every month at 9am. Get an in-depth look at the inner workings of this transformative space – knowledge is the key to being a good neighbor! We hope to see you soon. \nReserve your spot: https://keystochangeaz.org/get-involved/campus-tours/ \nNOTE: If the date you wish to attend is not listed on the Mobilize signup form\, that means the tour is full. Please select another date provided\, or email admin@keystochangeaz.org to schedule a private tour.
URL:https://keystochangeaz.org/event/tour-03-2026/
LOCATION:Keys to Change Administration Offices\, 1218 W Madison Street\, Phoenix\, AZ\, 85007\, United States
ATTACH;FMTTYPE=image/jpeg:https://keystochangeaz.org/wp-content/uploads/2026/01/Key-Campus-Tours-feature-image.jpg
ORGANIZER;CN="Keys to Change":MAILTO:admin@keystochangeaz.org
END:VEVENT
BEGIN:VEVENT
DTSTART;TZID=America/Phoenix:20260212T080000
DTEND;TZID=America/Phoenix:20260212T150000
DTSTAMP:20260425T110035
CREATED:20260126T212026Z
LAST-MODIFIED:20260417T220219Z
UID:10000008-1770883200-1770908400@keystochangeaz.org
SUMMARY:Project Connect Phoenix
DESCRIPTION:Post-Event Recap\n\nPhoto Album: Flickr Photos – Feb 12 2026\nBy the Numbers\n\n131 Guests\n16 Provider Organizations\n575 Service Connections\n36 Volunteers; 144 Volunteer Hours (Thank you HOM Inc.\, STN\, CollectivePhx\, and ASU!)\n\n\n\nGuest Review: I came to see about the one-year bus pass they’re offering. I connected with Michael from Keys to Change. I was thrilled on being able to start the process today! \nVolunteer Review: Loved seeing all the collaboration of service providers and especially loved seeing vulnerable people treated with dignity! Shout out to Isaac for always being available for questions and being so organized! Thank you for letting me be a small part of all you are doing! \nProvider Impact Story: One notable success story involved a 28-year-old male client who recently experienced the loss of his partner. Following his partner’s passing\, his child was taken into custody. He saved all his money to afford a lawyer to gain his parental rights\, in doing so he got behind on rent\, became homeless\, and lost his job. Through Project Connect\, the client was able to secure a bed with CASS. This provided him with stability and the opportunity to begin rebuilding his life while continuing the legal process to regain custody of his child. \n  \nOriginal Post\nJoin Keys to Change and community partners for a one-day pop-up event offering a wide range of services for individuals experiencing or at risk of homelessness. Volunteers are needed to assist with setup\, breakdown\, and throughout the event to ensure our unhoused guests feel welcome\, and get the most  value possible out of the event! \nLink to Volunteer: https://mobilize.us/s/Bee4i8 \nIf you’re a service provider interested in participating\, please email eroed@keystochangeaz.org 
URL:https://keystochangeaz.org/event/project-connect-phoenix/
LOCATION:First Christian Church\, 6750 N 7th Avenue\, Phoenix\, AZ\, 85013\, United States
ATTACH;FMTTYPE=image/jpeg:https://keystochangeaz.org/wp-content/uploads/2026/03/Project-Connect-feature-image2.jpg
ORGANIZER;CN="Keys to Change":MAILTO:admin@keystochangeaz.org
END:VEVENT
BEGIN:VEVENT
DTSTART;TZID=America/Phoenix:20251210T083000
DTEND;TZID=America/Phoenix:20251210T103000
DTSTAMP:20260425T110035
CREATED:20251124T224014Z
LAST-MODIFIED:20260417T234742Z
UID:10000007-1765355400-1765362600@keystochangeaz.org
SUMMARY:Key Campus Client Holiday Celebration
DESCRIPTION:Post-Event Impact\nThank you to everyone who helped create this special day! Together\, we served over 1\,000 meals\, played games\, painted pictures\, ate cotton candy\, and danced away the afternoon. It’s truly a delight to invite the broader community to help make the holidays bright at Key Campus. \nCheck out the photos here: https://flic.kr/s/aHBqjCDBUr\n**********\nOriginal Post\nVolunteers needed! RSVP Required. Join us for a day of holiday cheer\, community\, and celebration at our Annual Client Holiday Celebration\, hosted by Keys to Change. \n\nSign up to volunteer: https://mobilize.us/s/A5pt7F \n\n 
URL:https://keystochangeaz.org/event/key-campus-client-holiday-celebration/
LOCATION:Key Campus\, 204 S. 12th Avenue\, Phoenix\, AZ\, 85007
ATTACH;FMTTYPE=image/jpeg:https://keystochangeaz.org/wp-content/uploads/2025/11/client-holiday-party-feature-image.jpg
ORGANIZER;CN="Keys to Change":MAILTO:admin@keystochangeaz.org
END:VEVENT
BEGIN:VEVENT
DTSTART;TZID=America/Phoenix:20251205T070000
DTEND;TZID=America/Phoenix:20251205T090000
DTSTAMP:20260425T110035
CREATED:20251015T203321Z
LAST-MODIFIED:20260417T235604Z
UID:10000006-1764918000-1764925200@keystochangeaz.org
SUMMARY:21st Annual Mike McQuaid I Am Home Fundraising Breakfast
DESCRIPTION:Post-Event Recap\n$1M FUNDRAISING GOAL MET! \nPhoto Album: Flickr Photos – Dec 5 2025 \nOriginal Post\nRSVP required. Join Keys to Change as we celebrate and sustain our collective impact creating successful journeys from street to home.
URL:https://keystochangeaz.org/event/21st-annual-mike-mcquaid-i-am-home-fundraising-breakfast/
LOCATION:Arizona Biltmore\, 2400 E Missouri Avenue\, Phoenix\, AZ\, 85016\, United States
ATTACH;FMTTYPE=image/jpeg:https://keystochangeaz.org/wp-content/uploads/2025/10/I-Am-Home-Breakfast-feature-image.jpg
ORGANIZER;CN="Keys to Change":MAILTO:admin@keystochangeaz.org
END:VEVENT
BEGIN:VEVENT
DTSTART;TZID=America/Phoenix:20251107T130000
DTEND;TZID=America/Phoenix:20251107T160000
DTSTAMP:20260425T110035
CREATED:20251015T202651Z
LAST-MODIFIED:20260418T000918Z
UID:10000005-1762520400-1762531200@keystochangeaz.org
SUMMARY:Key Campus 20th Anniversary Celebration
DESCRIPTION:Post-Event Recap\nPhoto Album: Flickr Photos – Nov 7 2025 \nOriginal Post\nRSVP required. Join Keys to Change and Key Campus Partners as we celebrate 20 years of impact at the Campus at 12th Avenue and Madison in Phoenix. A light reception will begin at 1:00 in the Administration Building. Please arrive by 2:45 to be escorted to the Key Campus Plaza for the Program. Optional campus tours will be offered before or after the 3:00 Program.
URL:https://keystochangeaz.org/event/key-campus-20th-anniversary-celebration/
LOCATION:Keys to Change Administration Offices\, 1218 W Madison Street\, Phoenix\, AZ\, 85007\, United States
ATTACH;FMTTYPE=image/jpeg:https://keystochangeaz.org/wp-content/uploads/2025/10/20th-Anniversary-featured-image.jpg
ORGANIZER;CN="Keys to Change":MAILTO:admin@keystochangeaz.org
END:VEVENT
BEGIN:VEVENT
DTSTART;TZID=America/Phoenix:20240926T090000
DTEND;TZID=America/Phoenix:20240926T150000
DTSTAMP:20260425T110035
CREATED:20240812T173054Z
LAST-MODIFIED:20260418T001212Z
UID:10000004-1727341200-1727362800@keystochangeaz.org
SUMMARY:Project Connect - Avondale
DESCRIPTION:Calling all Volunteers! Come help us deliver transformative resources to end homelessness. \nRegister to Volunteer
URL:https://keystochangeaz.org/event/project-connect-avondale/
LOCATION:Avondale Baptist Church\, 1001 N Central Ave\, Avondale\, 85323\, United States
CATEGORIES:Project Connect
ATTACH;FMTTYPE=image/jpeg:https://keystochangeaz.org/wp-content/uploads/2026/03/Project-Connect-feature-image2.jpg
ORGANIZER;CN="Keys to Change":MAILTO:admin@keystochangeaz.org
END:VEVENT
BEGIN:VEVENT
DTSTART;TZID=America/Phoenix:20240907T090000
DTEND;TZID=America/Phoenix:20240907T120000
DTSTAMP:20260425T110035
CREATED:20240812T171925Z
LAST-MODIFIED:20260418T001249Z
UID:10000001-1725699600-1725710400@keystochangeaz.org
SUMMARY:Thirst Aid - September
DESCRIPTION:The we’re ready for bottled water drop-offs on Saturday\, 9am to noon.
URL:https://keystochangeaz.org/event/thirst-aid-september/
LOCATION:Key Campus\, 204 S. 12th Avenue\, Phoenix\, AZ\, 85007
CATEGORIES:Thirst Aid
ATTACH;FMTTYPE=image/jpeg:https://keystochangeaz.org/wp-content/uploads/2026/04/Thirst-Aid-Feature-Image3.jpg
ORGANIZER;CN="Keys to Change":MAILTO:admin@keystochangeaz.org
END:VEVENT
BEGIN:VEVENT
DTSTART;TZID=America/Phoenix:20240828T070000
DTEND;TZID=America/Phoenix:20240828T150000
DTSTAMP:20260425T110035
CREATED:20240812T172522Z
LAST-MODIFIED:20260418T001333Z
UID:10000003-1724828400-1724857200@keystochangeaz.org
SUMMARY:Project Connect - Uptown Phoenix
DESCRIPTION:Calling all Volunteers! Come help us deliver transformative resources to end homelessness. \nRegister to Volunteer
URL:https://keystochangeaz.org/event/project-connect-uptown-phoenix/
LOCATION:Avondale Baptist Church\, 1001 N Central Ave\, Avondale\, 85323\, United States
CATEGORIES:Project Connect
ATTACH;FMTTYPE=image/jpeg:https://keystochangeaz.org/wp-content/uploads/2026/03/Project-Connect-feature-image2.jpg
ORGANIZER;CN="Keys to Change":MAILTO:admin@keystochangeaz.org
END:VEVENT
BEGIN:VEVENT
DTSTART;TZID=America/Phoenix:20240803T090000
DTEND;TZID=America/Phoenix:20240803T120000
DTSTAMP:20260425T110035
CREATED:20240812T172129Z
LAST-MODIFIED:20260418T001438Z
UID:10000002-1722675600-1722686400@keystochangeaz.org
SUMMARY:Thirst Aid - August
DESCRIPTION:The we’re ready for bottled water drop-offs on Saturday\, 9am to noon.
URL:https://keystochangeaz.org/event/thirst-aid-august/
LOCATION:Key Campus\, 204 S. 12th Avenue\, Phoenix\, AZ\, 85007
CATEGORIES:Thirst Aid
ATTACH;FMTTYPE=image/jpeg:https://keystochangeaz.org/wp-content/uploads/2026/04/Thirst-Aid-Feature-Image3.jpg
ORGANIZER;CN="Keys to Change":MAILTO:admin@keystochangeaz.org
END:VEVENT
END:VCALENDAR