BEGIN:VCALENDAR
VERSION:2.0
PRODID:-//Keys to Change | Arizona - ECPv6.15.20//NONSGML v1.0//EN
CALSCALE:GREGORIAN
METHOD:PUBLISH
X-ORIGINAL-URL:https://keystochangeaz.org
X-WR-CALDESC:Events for Keys to Change | Arizona
REFRESH-INTERVAL;VALUE=DURATION:PT1H
X-Robots-Tag:noindex
X-PUBLISHED-TTL:PT1H
BEGIN:VTIMEZONE
TZID:America/Phoenix
BEGIN:STANDARD
TZOFFSETFROM:-0700
TZOFFSETTO:-0700
TZNAME:MST
DTSTART:20250101T000000
END:STANDARD
END:VTIMEZONE
BEGIN:VEVENT
DTSTART;TZID=America/Phoenix:20260212T080000
DTEND;TZID=America/Phoenix:20260212T150000
DTSTAMP:20260425T151130
CREATED:20260126T212026Z
LAST-MODIFIED:20260417T220219Z
UID:10000008-1770883200-1770908400@keystochangeaz.org
SUMMARY:Project Connect Phoenix
DESCRIPTION:Post-Event Recap\n\nPhoto Album: Flickr Photos – Feb 12 2026\nBy the Numbers\n\n131 Guests\n16 Provider Organizations\n575 Service Connections\n36 Volunteers; 144 Volunteer Hours (Thank you HOM Inc.\, STN\, CollectivePhx\, and ASU!)\n\n\n\nGuest Review: I came to see about the one-year bus pass they’re offering. I connected with Michael from Keys to Change. I was thrilled on being able to start the process today! \nVolunteer Review: Loved seeing all the collaboration of service providers and especially loved seeing vulnerable people treated with dignity! Shout out to Isaac for always being available for questions and being so organized! Thank you for letting me be a small part of all you are doing! \nProvider Impact Story: One notable success story involved a 28-year-old male client who recently experienced the loss of his partner. Following his partner’s passing\, his child was taken into custody. He saved all his money to afford a lawyer to gain his parental rights\, in doing so he got behind on rent\, became homeless\, and lost his job. Through Project Connect\, the client was able to secure a bed with CASS. This provided him with stability and the opportunity to begin rebuilding his life while continuing the legal process to regain custody of his child. \n  \nOriginal Post\nJoin Keys to Change and community partners for a one-day pop-up event offering a wide range of services for individuals experiencing or at risk of homelessness. Volunteers are needed to assist with setup\, breakdown\, and throughout the event to ensure our unhoused guests feel welcome\, and get the most  value possible out of the event! \nLink to Volunteer: https://mobilize.us/s/Bee4i8 \nIf you’re a service provider interested in participating\, please email eroed@keystochangeaz.org 
URL:https://keystochangeaz.org/event/project-connect-phoenix/
LOCATION:First Christian Church\, 6750 N 7th Avenue\, Phoenix\, AZ\, 85013\, United States
ATTACH;FMTTYPE=image/jpeg:https://keystochangeaz.org/wp-content/uploads/2026/03/Project-Connect-feature-image2.jpg
ORGANIZER;CN="Keys to Change":MAILTO:admin@keystochangeaz.org
END:VEVENT
END:VCALENDAR